BEGIN:VCALENDAR
VERSION:2.0
PRODID:-//Strictly Fine - ECPv6.15.12.2//NONSGML v1.0//EN
CALSCALE:GREGORIAN
METHOD:PUBLISH
X-ORIGINAL-URL:https://strictlyfine.com
X-WR-CALDESC:Events for Strictly Fine
REFRESH-INTERVAL;VALUE=DURATION:PT1H
X-Robots-Tag:noindex
X-PUBLISHED-TTL:PT1H
BEGIN:VTIMEZONE
TZID:America/Detroit
BEGIN:DAYLIGHT
TZOFFSETFROM:-0500
TZOFFSETTO:-0400
TZNAME:EDT
DTSTART:20230312T070000
END:DAYLIGHT
BEGIN:STANDARD
TZOFFSETFROM:-0400
TZOFFSETTO:-0500
TZNAME:EST
DTSTART:20231105T060000
END:STANDARD
BEGIN:DAYLIGHT
TZOFFSETFROM:-0500
TZOFFSETTO:-0400
TZNAME:EDT
DTSTART:20240310T070000
END:DAYLIGHT
BEGIN:STANDARD
TZOFFSETFROM:-0400
TZOFFSETTO:-0500
TZNAME:EST
DTSTART:20241103T060000
END:STANDARD
BEGIN:DAYLIGHT
TZOFFSETFROM:-0500
TZOFFSETTO:-0400
TZNAME:EDT
DTSTART:20250309T070000
END:DAYLIGHT
BEGIN:STANDARD
TZOFFSETFROM:-0400
TZOFFSETTO:-0500
TZNAME:EST
DTSTART:20251102T060000
END:STANDARD
END:VTIMEZONE
BEGIN:VEVENT
DTSTART;TZID=America/Detroit:20240719T190000
DTEND;TZID=America/Detroit:20240719T210000
DTSTAMP:20260419T134143
CREATED:20240205T191307Z
LAST-MODIFIED:20240205T191350Z
UID:1196-1721415600-1721422800@strictlyfine.com
SUMMARY:Downtown Mt. Clemens Fountain Show
DESCRIPTION:Returning to Downtown Mount Clemens to have a party at the Fountain Stage!
URL:https://strictlyfine.com/shows/downtown-mt-clemens-fountain-show/
LOCATION:Downtown Mt. Clemens Fountain Stage\, 49 Macomb Pl\, Mt Clemens\, MI\, 48043\, United States
END:VEVENT
BEGIN:VEVENT
DTSTART;TZID=America/Detroit:20240725T193000
DTEND;TZID=America/Detroit:20240725T213000
DTSTAMP:20260419T134143
CREATED:20240408T185034Z
LAST-MODIFIED:20240709T171921Z
UID:1208-1721935800-1721943000@strictlyfine.com
SUMMARY:Willis Show Bar
DESCRIPTION:Returning to one of our favorite hometown spots\, Willis Show Bar!\nGet your Tickets here!\nhttps://sevn.ly/xgyOtFop \nDoors 7p  /  Show 8p – 9:30pm!
URL:https://strictlyfine.com/shows/willis-show-bar-4/
LOCATION:The Willis Show Bar\, 4156 3rd Ave\, Detroit\, MI\, 48201\, United States
END:VEVENT
BEGIN:VEVENT
DTSTART;TZID=America/Detroit:20240726T200000
DTEND;TZID=America/Detroit:20240726T230000
DTSTAMP:20260419T134143
CREATED:20240408T185726Z
LAST-MODIFIED:20240408T185726Z
UID:1211-1722024000-1722034800@strictlyfine.com
SUMMARY:Salerno's
DESCRIPTION:New spot. Come thru! 8-11pmish!
URL:https://strictlyfine.com/shows/salernos/
LOCATION:Salerno’s\, 25677 Van Born Rd\, Taylor\, MI\, 48124\, United States
END:VEVENT
END:VCALENDAR