BEGIN:VCALENDAR
VERSION:2.0
PRODID:-//Strictly Fine - ECPv6.15.12.2//NONSGML v1.0//EN
CALSCALE:GREGORIAN
METHOD:PUBLISH
X-WR-CALNAME:Strictly Fine
X-ORIGINAL-URL:https://strictlyfine.com
X-WR-CALDESC:Events for Strictly Fine
REFRESH-INTERVAL;VALUE=DURATION:PT1H
X-Robots-Tag:noindex
X-PUBLISHED-TTL:PT1H
BEGIN:VTIMEZONE
TZID:America/Detroit
BEGIN:DAYLIGHT
TZOFFSETFROM:-0500
TZOFFSETTO:-0400
TZNAME:EDT
DTSTART:20220313T070000
END:DAYLIGHT
BEGIN:STANDARD
TZOFFSETFROM:-0400
TZOFFSETTO:-0500
TZNAME:EST
DTSTART:20221106T060000
END:STANDARD
BEGIN:DAYLIGHT
TZOFFSETFROM:-0500
TZOFFSETTO:-0400
TZNAME:EDT
DTSTART:20230312T070000
END:DAYLIGHT
BEGIN:STANDARD
TZOFFSETFROM:-0400
TZOFFSETTO:-0500
TZNAME:EST
DTSTART:20231105T060000
END:STANDARD
BEGIN:DAYLIGHT
TZOFFSETFROM:-0500
TZOFFSETTO:-0400
TZNAME:EDT
DTSTART:20240310T070000
END:DAYLIGHT
BEGIN:STANDARD
TZOFFSETFROM:-0400
TZOFFSETTO:-0500
TZNAME:EST
DTSTART:20241103T060000
END:STANDARD
END:VTIMEZONE
BEGIN:VEVENT
DTSTART;TZID=America/Detroit:20230602T200000
DTEND;TZID=America/Detroit:20230602T235900
DTSTAMP:20260421T200535
CREATED:20230207T173010Z
LAST-MODIFIED:20230207T173010Z
UID:1101-1685736000-1685750340@strictlyfine.com
SUMMARY:Old Miami
DESCRIPTION:Groovin and movin at one of our favorite spots\, The Old Miami! Summer weather = Patio vibes!!
URL:https://strictlyfine.com/shows/old-miami-2/
LOCATION:The Old Miami\, 3930 Cass Ave\, Detroit\, MI\, 48201\, United States
END:VEVENT
BEGIN:VEVENT
DTSTART;TZID=America/Detroit:20230621T183000
DTEND;TZID=America/Detroit:20230621T203000
DTSTAMP:20260421T200535
CREATED:20230116T184528Z
LAST-MODIFIED:20230116T184528Z
UID:1094-1687372200-1687379400@strictlyfine.com
SUMMARY:Taylor Concert Series
DESCRIPTION:We’ll be back for the City of Taylor Concert Series at the Taylor Conservatory!  We had a blast last year\, ready to do it again!
URL:https://strictlyfine.com/shows/taylor-concert-series/
LOCATION:Taylor Conservatory\, 22314 Northline Rd\, Taylor\, MI\, 48180\, United States
END:VEVENT
END:VCALENDAR