BEGIN:VCALENDAR
VERSION:2.0
PRODID:-//Strictly Fine - ECPv6.15.12.2//NONSGML v1.0//EN
CALSCALE:GREGORIAN
METHOD:PUBLISH
X-ORIGINAL-URL:https://strictlyfine.com
X-WR-CALDESC:Events for Strictly Fine
REFRESH-INTERVAL;VALUE=DURATION:PT1H
X-Robots-Tag:noindex
X-PUBLISHED-TTL:PT1H
BEGIN:VTIMEZONE
TZID:America/Detroit
BEGIN:DAYLIGHT
TZOFFSETFROM:-0500
TZOFFSETTO:-0400
TZNAME:EDT
DTSTART:20250309T070000
END:DAYLIGHT
BEGIN:STANDARD
TZOFFSETFROM:-0400
TZOFFSETTO:-0500
TZNAME:EST
DTSTART:20251102T060000
END:STANDARD
BEGIN:DAYLIGHT
TZOFFSETFROM:-0500
TZOFFSETTO:-0400
TZNAME:EDT
DTSTART:20260308T070000
END:DAYLIGHT
BEGIN:STANDARD
TZOFFSETFROM:-0400
TZOFFSETTO:-0500
TZNAME:EST
DTSTART:20261101T060000
END:STANDARD
BEGIN:DAYLIGHT
TZOFFSETFROM:-0500
TZOFFSETTO:-0400
TZNAME:EDT
DTSTART:20270314T070000
END:DAYLIGHT
BEGIN:STANDARD
TZOFFSETFROM:-0400
TZOFFSETTO:-0500
TZNAME:EST
DTSTART:20271107T060000
END:STANDARD
END:VTIMEZONE
BEGIN:VEVENT
DTSTART;TZID=America/Detroit:20260212T180000
DTEND;TZID=America/Detroit:20260212T210000
DTSTAMP:20260420T110353
CREATED:20260212T233412Z
LAST-MODIFIED:20260212T233412Z
UID:1332-1770919200-1770930000@strictlyfine.com
SUMMARY:Broken Heart Smash Music Showcase
DESCRIPTION:
URL:https://strictlyfine.com/shows/broken-heart-smash-music-showcase/
LOCATION:Renick University Center Building\, University Center 4901 Evergreen Rd\, Dearborn\, Michigan\, 48128
END:VEVENT
END:VCALENDAR