BEGIN:VCALENDAR
VERSION:2.0
PRODID:-//Strictly Fine - ECPv6.15.12.2//NONSGML v1.0//EN
CALSCALE:GREGORIAN
METHOD:PUBLISH
X-ORIGINAL-URL:https://strictlyfine.com
X-WR-CALDESC:Events for Strictly Fine
REFRESH-INTERVAL;VALUE=DURATION:PT1H
X-Robots-Tag:noindex
X-PUBLISHED-TTL:PT1H
BEGIN:VTIMEZONE
TZID:America/Detroit
BEGIN:DAYLIGHT
TZOFFSETFROM:-0500
TZOFFSETTO:-0400
TZNAME:EDT
DTSTART:20230312T070000
END:DAYLIGHT
BEGIN:STANDARD
TZOFFSETFROM:-0400
TZOFFSETTO:-0500
TZNAME:EST
DTSTART:20231105T060000
END:STANDARD
BEGIN:DAYLIGHT
TZOFFSETFROM:-0500
TZOFFSETTO:-0400
TZNAME:EDT
DTSTART:20240310T070000
END:DAYLIGHT
BEGIN:STANDARD
TZOFFSETFROM:-0400
TZOFFSETTO:-0500
TZNAME:EST
DTSTART:20241103T060000
END:STANDARD
BEGIN:DAYLIGHT
TZOFFSETFROM:-0500
TZOFFSETTO:-0400
TZNAME:EDT
DTSTART:20250309T070000
END:DAYLIGHT
BEGIN:STANDARD
TZOFFSETFROM:-0400
TZOFFSETTO:-0500
TZNAME:EST
DTSTART:20251102T060000
END:STANDARD
END:VTIMEZONE
BEGIN:VEVENT
DTSTART;TZID=America/Detroit:20240906T183000
DTEND;TZID=America/Detroit:20240906T193000
DTSTAMP:20260419T202423
CREATED:20240716T160652Z
LAST-MODIFIED:20240716T160652Z
UID:1221-1725647400-1725651000@strictlyfine.com
SUMMARY:Black Swamp Arts Festival - Bowling Green\, OH
DESCRIPTION:We love Bowling Green\, and this is festival is SO much fun!!\nPlaying 6:30pm on the Main Stage\, and then 11:00pm at the After Hours Stage at Howard’s!
URL:https://strictlyfine.com/shows/black-swamp-arts-festival-bowling-green-oh/
LOCATION:Black Swamp Arts Festival\, 100 S Main St\, Bowling Green\, OH\, 43402\, United States
END:VEVENT
BEGIN:VEVENT
DTSTART;TZID=America/Detroit:20240906T230000
DTEND;TZID=America/Detroit:20240906T235900
DTSTAMP:20260419T202423
CREATED:20240716T160945Z
LAST-MODIFIED:20240716T160945Z
UID:1224-1725663600-1725667140@strictlyfine.com
SUMMARY:Howard's Club H - Black Swamp After Hours Party
DESCRIPTION:This is the official After Hours Party for the Black Swamp Arts Festival!  We will be hitting at 11pm for a late night adult set after the Family set on the Festival Main Stage at 6:30p… BOWLING GREEN\, WE LOVE YOU
URL:https://strictlyfine.com/shows/howards-club-h-black-swamp-after-hours-party/
LOCATION:Howard’s Club H\, 210 N Main St\, Bowling Green\, OH\, 43402\, United States
END:VEVENT
END:VCALENDAR