BEGIN:VCALENDAR
VERSION:2.0
PRODID:-//Strictly Fine - ECPv6.15.12.2//NONSGML v1.0//EN
CALSCALE:GREGORIAN
METHOD:PUBLISH
X-ORIGINAL-URL:https://strictlyfine.com
X-WR-CALDESC:Events for Strictly Fine
REFRESH-INTERVAL;VALUE=DURATION:PT1H
X-Robots-Tag:noindex
X-PUBLISHED-TTL:PT1H
BEGIN:VTIMEZONE
TZID:America/Detroit
BEGIN:DAYLIGHT
TZOFFSETFROM:-0500
TZOFFSETTO:-0400
TZNAME:EDT
DTSTART:20220313T070000
END:DAYLIGHT
BEGIN:STANDARD
TZOFFSETFROM:-0400
TZOFFSETTO:-0500
TZNAME:EST
DTSTART:20221106T060000
END:STANDARD
BEGIN:DAYLIGHT
TZOFFSETFROM:-0500
TZOFFSETTO:-0400
TZNAME:EDT
DTSTART:20230312T070000
END:DAYLIGHT
BEGIN:STANDARD
TZOFFSETFROM:-0400
TZOFFSETTO:-0500
TZNAME:EST
DTSTART:20231105T060000
END:STANDARD
BEGIN:DAYLIGHT
TZOFFSETFROM:-0500
TZOFFSETTO:-0400
TZNAME:EDT
DTSTART:20240310T070000
END:DAYLIGHT
BEGIN:STANDARD
TZOFFSETFROM:-0400
TZOFFSETTO:-0500
TZNAME:EST
DTSTART:20241103T060000
END:STANDARD
END:VTIMEZONE
BEGIN:VEVENT
DTSTART;TZID=America/Detroit:20231005T200000
DTEND;TZID=America/Detroit:20231005T230000
DTSTAMP:20260421T133134
CREATED:20230720T221205Z
LAST-MODIFIED:20230720T221231Z
UID:1164-1696536000-1696546800@strictlyfine.com
SUMMARY:Willis Showbar
DESCRIPTION:One of our favorite Detroit spots to play!  Shows at 8pm and 10pm. \nGet on out here!
URL:https://strictlyfine.com/shows/willis-showbar/
LOCATION:The Willis Show Bar\, 4156 3rd Ave\, Detroit\, MI\, 48201\, United States
END:VEVENT
END:VCALENDAR