BEGIN:VCALENDAR
VERSION:2.0
PRODID:-//Strictly Fine - ECPv6.15.12.2//NONSGML v1.0//EN
CALSCALE:GREGORIAN
METHOD:PUBLISH
X-ORIGINAL-URL:https://strictlyfine.com
X-WR-CALDESC:Events for Strictly Fine
REFRESH-INTERVAL;VALUE=DURATION:PT1H
X-Robots-Tag:noindex
X-PUBLISHED-TTL:PT1H
BEGIN:VTIMEZONE
TZID:America/Detroit
BEGIN:DAYLIGHT
TZOFFSETFROM:-0500
TZOFFSETTO:-0400
TZNAME:EDT
DTSTART:20220313T070000
END:DAYLIGHT
BEGIN:STANDARD
TZOFFSETFROM:-0400
TZOFFSETTO:-0500
TZNAME:EST
DTSTART:20221106T060000
END:STANDARD
BEGIN:DAYLIGHT
TZOFFSETFROM:-0500
TZOFFSETTO:-0400
TZNAME:EDT
DTSTART:20230312T070000
END:DAYLIGHT
BEGIN:STANDARD
TZOFFSETFROM:-0400
TZOFFSETTO:-0500
TZNAME:EST
DTSTART:20231105T060000
END:STANDARD
BEGIN:DAYLIGHT
TZOFFSETFROM:-0500
TZOFFSETTO:-0400
TZNAME:EDT
DTSTART:20240310T070000
END:DAYLIGHT
BEGIN:STANDARD
TZOFFSETFROM:-0400
TZOFFSETTO:-0500
TZNAME:EST
DTSTART:20241103T060000
END:STANDARD
END:VTIMEZONE
BEGIN:VEVENT
DTSTART;TZID=America/Detroit:20230701T214500
DTEND;TZID=America/Detroit:20230701T230000
DTSTAMP:20260421T195526
CREATED:20230605T164815Z
LAST-MODIFIED:20230605T164815Z
UID:1126-1688247900-1688252400@strictlyfine.com
SUMMARY:Taco Fest - Royal Oak - Michigan Lottery Stage
DESCRIPTION:We’ll be closing out the day on the Michigan Lottery Stage for Royal Oak Taco Fest! Our set is at 9:45p – Let’s get down on some tacos with extra funky toppings by us!! \nFestival Website: https://www.royaloaktacofest.com/ \n  \n 
URL:https://strictlyfine.com/shows/taco-fest-royal-oak-michigan-lottery-stage/
LOCATION:Downtown Royal Oak\, Royal Oak\, MI\, United States
END:VEVENT
END:VCALENDAR